BEGIN:VCALENDAR
VERSION:2.0
PRODID:-//jEvents 2.0 for Joomla//EN
CALSCALE:GREGORIAN
METHOD:PUBLISH
BEGIN:VEVENT
UID:7f3fe4ed2a4fd1c0570a7008b447a6ba
CATEGORIES:Mehrum
CREATED:20241220T083138
SUMMARY:Dienst Gruppe Schäfer
LOCATION:Feuerwehr Mehrum
DESCRIPTION:
X-EXTRAINFO:Thema: Lange Wegstrecke
DTSTAMP:20260423T170801
DTSTART:20250724T170000
DTEND:20250724T190000
SEQUENCE:0
TRANSP:OPAQUE
END:VEVENT
END:VCALENDAR