BEGIN:VCALENDAR
VERSION:2.0
PRODID:-//jEvents 2.0 for Joomla//EN
CALSCALE:GREGORIAN
METHOD:PUBLISH
BEGIN:VEVENT
UID:6d0f0efdd369a44fae1f01f6b7d372b4
CATEGORIES:Mehrum
CREATED:20241220T083206
SUMMARY:Dienst Gruppe Schäfer
LOCATION:Feuerwehr Mehrum
DESCRIPTION:
X-EXTRAINFO:Thema: Lange Wegstrecke
DTSTAMP:20260422T230917
DTSTART:20250821T170000
DTEND:20250821T190000
SEQUENCE:0
TRANSP:OPAQUE
END:VEVENT
END:VCALENDAR