BEGIN:VCALENDAR
VERSION:2.0
PRODID:-//jEvents 2.0 for Joomla//EN
CALSCALE:GREGORIAN
METHOD:PUBLISH
BEGIN:VEVENT
UID:7826e89b016a4f315feecdfc0becd702
CATEGORIES:Mehrum
CREATED:20241220T085818
SUMMARY:Dienst Gruppe Westendorf
LOCATION:Feuerwehr Mehrum
DESCRIPTION:
DTSTAMP:20260422T235014
DTSTART:20250326T180000
DTEND:20250326T200000
SEQUENCE:0
TRANSP:OPAQUE
END:VEVENT
END:VCALENDAR