BEGIN:VCALENDAR
VERSION:2.0
PRODID:-//jEvents 2.0 for Joomla//EN
CALSCALE:GREGORIAN
METHOD:PUBLISH
BEGIN:VEVENT
UID:3ae9130802cbf3bd53a99bcbd592b81b
CATEGORIES:Mehrum
CREATED:20241220T085846
SUMMARY:Dienst Gruppe Westendorf
LOCATION:Feuerwehr Mehrum
DESCRIPTION:
X-EXTRAINFO:Thema: Elektrische Gefahren
DTSTAMP:20260422T135525
DTSTART:20250409T170000
DTEND:20250409T190000
SEQUENCE:0
TRANSP:OPAQUE
END:VEVENT
END:VCALENDAR