BEGIN:VCALENDAR
VERSION:2.0
PRODID:-//jEvents 2.0 for Joomla//EN
CALSCALE:GREGORIAN
METHOD:PUBLISH
BEGIN:VEVENT
UID:9849fe0bc99300b69dc83c074adc79fb
CATEGORIES:Mehrum
CREATED:20241220T085907
SUMMARY:Dienst Gruppe Westendorf
LOCATION:Feuerwehr Mehrum
DESCRIPTION:
DTSTAMP:20260425T211839
DTSTART:20250423T170000
DTEND:20250423T190000
SEQUENCE:0
TRANSP:OPAQUE
END:VEVENT
END:VCALENDAR