BEGIN:VCALENDAR
VERSION:2.0
PRODID:-//jEvents 2.0 for Joomla//EN
CALSCALE:GREGORIAN
METHOD:PUBLISH
BEGIN:VEVENT
UID:cdc03578ed6c6f6d11c9a5b4a31e14d2
CATEGORIES:Mehrum
CREATED:20241220T085947
SUMMARY:Dienst Gruppe Westendorf
LOCATION:Feuerwehr Mehrum
DESCRIPTION:
X-EXTRAINFO:Thema: Hygienekonzept
DTSTAMP:20260422T231824
DTSTART:20250506T170000
DTEND:20250506T190000
SEQUENCE:0
TRANSP:OPAQUE
END:VEVENT
END:VCALENDAR