BEGIN:VCALENDAR
VERSION:2.0
PRODID:-//jEvents 2.0 for Joomla//EN
CALSCALE:GREGORIAN
METHOD:PUBLISH
BEGIN:VEVENT
UID:87e34868987f6ab096d92cd9cd1e1070
CATEGORIES:Mehrum
CREATED:20241220T090019
SUMMARY:Dienst Gruppe Westendorf
LOCATION:Feuerwehr Mehrum
DESCRIPTION:
X-EXTRAINFO:Üben Ortswettkämpfe
DTSTAMP:20260423T165509
DTSTART:20250521T170000
DTEND:20250521T190000
SEQUENCE:0
TRANSP:OPAQUE
END:VEVENT
END:VCALENDAR