BEGIN:VCALENDAR
VERSION:2.0
PRODID:-//jEvents 2.0 for Joomla//EN
CALSCALE:GREGORIAN
METHOD:PUBLISH
BEGIN:VEVENT
UID:240c723254a9fd0af6c4772ca2f9012b
CATEGORIES:Mehrum
CREATED:20241220T090043
SUMMARY:Dienst Gruppe Westendorf
LOCATION:Feuerwehr Mehrum
DESCRIPTION:
X-EXTRAINFO:Üben Ortswettkämpfe
DTSTAMP:20260423T115437
DTSTART:20250604T170000
DTEND:20250604T190000
SEQUENCE:0
TRANSP:OPAQUE
END:VEVENT
END:VCALENDAR