BEGIN:VCALENDAR
VERSION:2.0
PRODID:-//jEvents 2.0 for Joomla//EN
CALSCALE:GREGORIAN
METHOD:PUBLISH
BEGIN:VEVENT
UID:906b543fa8171818e3a8266324d33232
CATEGORIES:Mehrum
CREATED:20241220T090224
SUMMARY:Dienst Gruppe Westendorf
LOCATION:Feuerwehr Mehrum
DESCRIPTION:
X-EXTRAINFO:Üben Ortswettkämpfe
DTSTAMP:20260423T021554
DTSTART:20250618T170000
DTEND:20250618T190000
SEQUENCE:0
TRANSP:OPAQUE
END:VEVENT
END:VCALENDAR