BEGIN:VCALENDAR
VERSION:2.0
PRODID:-//jEvents 2.0 for Joomla//EN
CALSCALE:GREGORIAN
METHOD:PUBLISH
BEGIN:VEVENT
UID:cf7bcc1c8e728e1a1ecc7e9921f68034
CATEGORIES:Mehrum
CREATED:20241220T090256
SUMMARY:Dienst Gruppe Westendorf
LOCATION:Feuerwehr Mehrum
DESCRIPTION:
X-EXTRAINFO:Thema: Lange Wegstrecke
DTSTAMP:20260422T235024
DTSTART:20250813T170000
DTEND:20250813T190000
SEQUENCE:0
TRANSP:OPAQUE
END:VEVENT
END:VCALENDAR