BEGIN:VCALENDAR
VERSION:2.0
PRODID:-//jEvents 2.0 for Joomla//EN
CALSCALE:GREGORIAN
METHOD:PUBLISH
BEGIN:VEVENT
UID:6583ef42bb0f45b7f40b74ac3b25500d
CATEGORIES:Mehrum
CREATED:20241220T090321
SUMMARY:Dienst Gruppe Westendorf
LOCATION:Feuerwehr Mehrum
DESCRIPTION:
X-EXTRAINFO:Thema: Lange Wegstrecke
DTSTAMP:20260422T235019
DTSTART:20250827T170000
DTEND:20250827T190000
SEQUENCE:0
TRANSP:OPAQUE
END:VEVENT
END:VCALENDAR