BEGIN:VCALENDAR
VERSION:2.0
PRODID:-//jEvents 2.0 for Joomla//EN
CALSCALE:GREGORIAN
METHOD:PUBLISH
BEGIN:VEVENT
UID:a1720e090dced6b80b3efe8345a76233
CATEGORIES:Mehrum
CREATED:20241220T090351
SUMMARY:Dienst Gruppe Westendorf
LOCATION:Feuerwehr Mehrum
DESCRIPTION:
DTSTAMP:20260422T235039
DTSTART:20250910T170000
DTEND:20250910T190000
SEQUENCE:0
TRANSP:OPAQUE
END:VEVENT
END:VCALENDAR