BEGIN:VCALENDAR
VERSION:2.0
PRODID:-//jEvents 2.0 for Joomla//EN
CALSCALE:GREGORIAN
METHOD:PUBLISH
BEGIN:VEVENT
UID:c0831b2c1e6d6d2d1fc209282bffebbe
CATEGORIES:Gemeinde
CREATED:20241221T143745
SUMMARY:FGG: Stations Ausbildung
LOCATION:Hohenhameln
DESCRIPTION:Stations Ausbildung
CONTACT:Fachgruppe Gefahrgut
DTSTAMP:20260422T085011
DTSTART:20250130T180000
DTEND:20250130T210000
SEQUENCE:0
TRANSP:OPAQUE
END:VEVENT
END:VCALENDAR