BEGIN:VCALENDAR
VERSION:2.0
PRODID:-//jEvents 2.0 for Joomla//EN
CALSCALE:GREGORIAN
METHOD:PUBLISH
BEGIN:VEVENT
UID:7399188ffa6092ee66f7646d6bc9f971
CATEGORIES:Gemeinde
CREATED:20241221T143745
SUMMARY:FGG: Einsatzübung
LOCATION:Hohenhameln
DESCRIPTION:Einsatzübung
CONTACT:Fachgruppe Gefahrgut
X-EXTRAINFO:Mit FG Peine und Edemissen
DTSTAMP:20260422T220020
DTSTART:20250326T163000
DTEND:20250326T200000
SEQUENCE:0
TRANSP:OPAQUE
END:VEVENT
END:VCALENDAR