BEGIN:VCALENDAR
VERSION:2.0
PRODID:-//jEvents 2.0 for Joomla//EN
CALSCALE:GREGORIAN
METHOD:PUBLISH
BEGIN:VEVENT
UID:2857c9ebfcda26eebb414481b6a3210d
CATEGORIES:Gemeinde
CREATED:20241221T143745
SUMMARY:FGG: Ausrüsten CSA
LOCATION:Hohenhameln
DESCRIPTION:Ausrüsten CSA
CONTACT:Fachgruppe Gefahrgut
DTSTAMP:20260422T042905
DTSTART:20250424T170000
DTEND:20250424T200000
SEQUENCE:0
TRANSP:OPAQUE
END:VEVENT
END:VCALENDAR