BEGIN:VCALENDAR
VERSION:2.0
PRODID:-//jEvents 2.0 for Joomla//EN
CALSCALE:GREGORIAN
METHOD:PUBLISH
BEGIN:VEVENT
UID:41236aa7f801ed5b2110f1f97d70809a
CATEGORIES:Gemeinde
CREATED:20241221T143745
SUMMARY:FGG: Einsatzübung
LOCATION:Hohenhameln
DESCRIPTION:Einsatzübung
CONTACT:Fachgruppe Gefahrgut
X-EXTRAINFO:Mit FG Peine  
DTSTAMP:20260422T112159
DTSTART:20250528T163000
DTEND:20250528T200000
SEQUENCE:0
TRANSP:OPAQUE
END:VEVENT
END:VCALENDAR