BEGIN:VCALENDAR
VERSION:2.0
PRODID:-//jEvents 2.0 for Joomla//EN
CALSCALE:GREGORIAN
METHOD:PUBLISH
BEGIN:VEVENT
UID:5ef6111a297a294ec1807568d0c0489d
CATEGORIES:Gemeinde
CREATED:20241221T143745
SUMMARY:FGG: Beladung GWG
LOCATION:Hohenhameln
DESCRIPTION:Beladung GWG
CONTACT:Fachgruppe Gefahrgut
DTSTAMP:20260423T124604
DTSTART:20250619T170000
DTEND:20250619T200000
SEQUENCE:0
TRANSP:OPAQUE
END:VEVENT
END:VCALENDAR