BEGIN:VCALENDAR
VERSION:2.0
PRODID:-//jEvents 2.0 for Joomla//EN
CALSCALE:GREGORIAN
METHOD:PUBLISH
BEGIN:VEVENT
UID:2b4b014d01548e0f61070797030a268e
CATEGORIES:Gemeinde
CREATED:20241221T143745
SUMMARY:FGG: Beladung GWG
LOCATION:Hohenhameln
DESCRIPTION:Beladung GWG
CONTACT:Fachgruppe Gefahrgut
DTSTAMP:20260423T053351
DTSTART:20250828T170000
DTEND:20250828T200000
SEQUENCE:0
TRANSP:OPAQUE
END:VEVENT
END:VCALENDAR