BEGIN:VCALENDAR
VERSION:2.0
PRODID:-//jEvents 2.0 for Joomla//EN
CALSCALE:GREGORIAN
METHOD:PUBLISH
BEGIN:VEVENT
UID:d8655fbc47a07779847ed72e76a15252
CATEGORIES:Gemeinde
CREATED:20241221T143745
SUMMARY:FGG: Einsatzübung
LOCATION:Hohenhameln
DESCRIPTION:Einsatzübung
CONTACT:Fachgruppe Gefahrgut
X-EXTRAINFO:Mit FG Ilsede
DTSTAMP:20260423T170756
DTSTART:20250918T163000
DTEND:20250918T200000
SEQUENCE:0
TRANSP:OPAQUE
END:VEVENT
END:VCALENDAR