BEGIN:VCALENDAR
VERSION:2.0
PRODID:-//jEvents 2.0 for Joomla//EN
CALSCALE:GREGORIAN
METHOD:PUBLISH
BEGIN:VEVENT
UID:79681544aa6f25443826681032f4733f
CATEGORIES:Gemeinde
CREATED:20241223T145731
SUMMARY:Funkübung
LOCATION:Schützenplatz Hohenhameln\, Treffpunkt FGH
DESCRIPTION:Gemeindefunkübung
CONTACT:Gemeindefunkbeauftragter
DTSTAMP:20260423T050325
DTSTART:20250423T164000
DTEND:20250423T190000
SEQUENCE:0
TRANSP:OPAQUE
END:VEVENT
END:VCALENDAR