BEGIN:VCALENDAR
VERSION:2.0
PRODID:-//jEvents 2.0 for Joomla//EN
CALSCALE:GREGORIAN
METHOD:PUBLISH
BEGIN:VEVENT
UID:351cb59810735e93d82366faca97f5e0
CATEGORIES:Gemeinde
CREATED:20241223T145731
SUMMARY:Funkübung
LOCATION:Schützenplatz Hohenhameln\, Treffpunkt FGH
DESCRIPTION:Gemeindefunkübung
CONTACT:Gemeindefunkbeauftragter
DTSTAMP:20260423T025045
DTSTART:20250604T164000
DTEND:20250604T190000
SEQUENCE:0
TRANSP:OPAQUE
END:VEVENT
END:VCALENDAR