BEGIN:VCALENDAR
VERSION:2.0
PRODID:-//jEvents 2.0 for Joomla//EN
CALSCALE:GREGORIAN
METHOD:PUBLISH
BEGIN:VEVENT
UID:bba7c1f52c81bcd0ffd4a112dc745663
CATEGORIES:Gemeinde
CREATED:20241223T145731
SUMMARY:Funkübung
LOCATION:Schützenplatz Hohenhameln\, Treffpunkt FGH
DESCRIPTION:Gemeindefunkübung
CONTACT:Gemeindefunkbeauftragter
DTSTAMP:20260423T042758
DTSTART:20250903T164000
DTEND:20250903T190000
SEQUENCE:0
TRANSP:OPAQUE
END:VEVENT
END:VCALENDAR