BEGIN:VCALENDAR
VERSION:2.0
PRODID:-//jEvents 2.0 for Joomla//EN
CALSCALE:GREGORIAN
METHOD:PUBLISH
BEGIN:VEVENT
UID:6a671d9a93feee96721a5a167bd93b61
CATEGORIES:Hohenhameln
CREATED:20250120T113526
SUMMARY:Gruppenabend 3 Gruppe
DESCRIPTION:Gruppenabend der 3 Gruppe\nTH/Seilwinde\nM.Wittenberg\n \n
X-ALT-DESC;FMTTYPE=text/html:<p>Gruppenabend der 3 Gruppe</p><p>TH/Seilwinde</p><p>M.Wittenberg</p><p>&n
 bsp;</p>
DTSTAMP:20260422T095050
DTSTART:20250128T183000
DTEND:20250128T203000
SEQUENCE:0
TRANSP:OPAQUE
END:VEVENT
END:VCALENDAR