BEGIN:VCALENDAR
VERSION:2.0
PRODID:-//jEvents 2.0 for Joomla//EN
CALSCALE:GREGORIAN
METHOD:PUBLISH
BEGIN:VEVENT
UID:e8a90f8328e1c49e0c74487f9dd44b2f
CATEGORIES:Hohenhameln
CREATED:20250120T114019
SUMMARY:Gruppenabend 1:Gruppe 
DESCRIPTION:Gruppenabend der 1 Gruppe\nBesichtigung Zuckerfabrik\nThore Lindemann\n
X-ALT-DESC;FMTTYPE=text/html:<p>Gruppenabend der 1 Gruppe</p><p>Besichtigung Zuckerfabrik</p><p>Thore Li
 ndemann</p>
DTSTAMP:20260422T232946
DTSTART:20250129T180000
DTEND:20250129T200000
SEQUENCE:0
TRANSP:OPAQUE
END:VEVENT
END:VCALENDAR