BEGIN:VCALENDAR
VERSION:2.0
PRODID:-//jEvents 2.0 for Joomla//EN
CALSCALE:GREGORIAN
METHOD:PUBLISH
BEGIN:VEVENT
UID:5a816cbb78041b6439eb5135d0cda8b1
CATEGORIES:Hohenhameln
CREATED:20250120T122738
SUMMARY:Allgemeiner Dienst-Modulare Grundausbildung
DESCRIPTION:Modulare Grundausbildung\nKnoten und Stiche\nMoritz Wittenberg\n
X-ALT-DESC;FMTTYPE=text/html:<p>Modulare Grundausbildung</p><p>Knoten und Stiche</p><p>Moritz Wittenberg
 </p>
DTSTAMP:20260422T093656
DTSTART:20250203T183000
DTEND:20250203T203000
SEQUENCE:0
TRANSP:OPAQUE
END:VEVENT
END:VCALENDAR