BEGIN:VCALENDAR
VERSION:2.0
PRODID:-//jEvents 2.0 for Joomla//EN
CALSCALE:GREGORIAN
METHOD:PUBLISH
BEGIN:VEVENT
UID:cb9a6c3970fc08d455bcbfc5916ee422
CATEGORIES:Hohenhameln
CREATED:20250120T123114
SUMMARY:Gruppenabend 1:Gruppe
DESCRIPTION:<p>Gruppenabend der 1 Gruppe</p><p>Thore Lindemann</p>
DTSTAMP:20260423T170836
DTSTART:20250212T183000
DTEND:20250212T203000
SEQUENCE:0
TRANSP:OPAQUE
END:VEVENT
END:VCALENDAR