BEGIN:VCALENDAR
VERSION:2.0
PRODID:-//jEvents 2.0 for Joomla//EN
CALSCALE:GREGORIAN
METHOD:PUBLISH
BEGIN:VEVENT
UID:f5540f2cf5c741d0b86a2c647b8327e5
CATEGORIES:Hohenhameln
CREATED:20250120T123227
SUMMARY:Allgemeiner Übungsdienst
DESCRIPTION:<p>Allgemeiner Übungsdienst</p><p>Lars Kunz</p><p>&nbsp;</p>
DTSTAMP:20260423T102459
DTSTART:20250212T070000
DTEND:20250212T160000
SEQUENCE:0
TRANSP:OPAQUE
END:VEVENT
END:VCALENDAR