BEGIN:VCALENDAR
VERSION:2.0
PRODID:-//jEvents 2.0 for Joomla//EN
CALSCALE:GREGORIAN
METHOD:PUBLISH
BEGIN:VEVENT
UID:a3c360dbf11443ba7782369d3405b1d9
CATEGORIES:Hohenhameln
CREATED:20250120T130611
SUMMARY:Gruppenabend 1:Gruppe
DESCRIPTION:Gruppenabend 1 Gruppe\nThore Lindemann\n
X-ALT-DESC;FMTTYPE=text/html:<p>Gruppenabend 1 Gruppe</p><p>Thore Lindemann</p>
DTSTAMP:20260422T233808
DTSTART:20250312T183000
DTEND:20250312T203000
SEQUENCE:0
TRANSP:OPAQUE
END:VEVENT
END:VCALENDAR