BEGIN:VCALENDAR
VERSION:2.0
PRODID:-//jEvents 2.0 for Joomla//EN
CALSCALE:GREGORIAN
METHOD:PUBLISH
BEGIN:VEVENT
UID:8a5ba9bbdf07a131c11ae84cbc74d88f
CATEGORIES:Hohenhameln
CREATED:20250120T130920
SUMMARY:Gruppenabend 1:Gruppe
DESCRIPTION:<p>Gruppenabend 1 Gruppe</p><p>Thore Lindemann</p><p>&nbsp;</p>
DTSTAMP:20260422T220413
DTSTART:20250325T183000
DTEND:20250325T203000
SEQUENCE:0
TRANSP:OPAQUE
END:VEVENT
END:VCALENDAR