BEGIN:VCALENDAR
VERSION:2.0
PRODID:-//jEvents 2.0 for Joomla//EN
CALSCALE:GREGORIAN
METHOD:PUBLISH
BEGIN:VEVENT
UID:035a6045bb8f091dc7a6b593a3b49d51
CATEGORIES:Hohenhameln
CREATED:20250120T131201
SUMMARY:Konzert Musikzug 
DESCRIPTION:<p>Konzert des Musikzuges</p><p>Unterstützung</p>
DTSTAMP:20260423T082639
DTSTART:20250406T123000
DTEND:20250406T160000
SEQUENCE:0
TRANSP:OPAQUE
END:VEVENT
END:VCALENDAR