BEGIN:VCALENDAR
VERSION:2.0
PRODID:-//jEvents 2.0 for Joomla//EN
CALSCALE:GREGORIAN
METHOD:PUBLISH
BEGIN:VEVENT
UID:f4aa521495cf00366ebdad00faf1be53
CATEGORIES:Hohenhameln
CREATED:20250120T131430
SUMMARY:Gruppenabend 1:Gruppe
DESCRIPTION:Gruppenabend 1 Gruppe\nThore Lindemann\n
X-ALT-DESC;FMTTYPE=text/html:<p>Gruppenabend 1 Gruppe</p><p>Thore Lindemann</p>
DTSTAMP:20260423T194254
DTSTART:20250409T173000
DTEND:20250409T193000
SEQUENCE:0
TRANSP:OPAQUE
END:VEVENT
END:VCALENDAR