BEGIN:VCALENDAR
VERSION:2.0
PRODID:-//jEvents 2.0 for Joomla//EN
CALSCALE:GREGORIAN
METHOD:PUBLISH
BEGIN:VEVENT
UID:534b4b6c891208fc0547b4af288d345b
CATEGORIES:Hohenhameln
CREATED:20250120T131604
SUMMARY:Osterfeuer
DESCRIPTION:<p>Osterfeuer</p>
DTSTAMP:20260422T174320
DTSTART:20250419T060000
DTEND:20250419T215900
SEQUENCE:0
TRANSP:OPAQUE
END:VEVENT
END:VCALENDAR