BEGIN:VCALENDAR
VERSION:2.0
PRODID:-//jEvents 2.0 for Joomla//EN
CALSCALE:GREGORIAN
METHOD:PUBLISH
BEGIN:VEVENT
UID:a48a1a8be5ef36448d1f1be3837123c5
CATEGORIES:Hohenhameln
CREATED:20250120T131757
SUMMARY:Allgemeiner Übungsdienst
DESCRIPTION:<p>Allgemeiner Übungsdienst</p><p>Lars Kunz</p>
DTSTAMP:20260422T235049
DTSTART:20250422T173000
DTEND:20250422T193000
SEQUENCE:0
TRANSP:OPAQUE
END:VEVENT
END:VCALENDAR