BEGIN:VCALENDAR
VERSION:2.0
PRODID:-//jEvents 2.0 for Joomla//EN
CALSCALE:GREGORIAN
METHOD:PUBLISH
BEGIN:VEVENT
UID:a6ad7a535ebcccf154abadf77e92e8c4
CATEGORIES:Hohenhameln
CREATED:20250120T132011
SUMMARY:Gruppenabend 1:Gruppe+Funkübung
DESCRIPTION:<p>Gruppenabend 1 Gruppe + Funkübung</p>
DTSTAMP:20260422T162257
DTSTART:20250423T163000
DTEND:20250423T190000
SEQUENCE:0
TRANSP:OPAQUE
END:VEVENT
END:VCALENDAR