BEGIN:VCALENDAR
VERSION:2.0
PRODID:-//jEvents 2.0 for Joomla//EN
CALSCALE:GREGORIAN
METHOD:PUBLISH
BEGIN:VEVENT
UID:f5c205edd193a272984189f41961b7c3
CATEGORIES:Hohenhameln
CREATED:20250120T132347
SUMMARY:Gruppenabend 1:Gruppe
DESCRIPTION:<p>Gruppenabend 1 Gruppe</p><p>Thore Lindemann</p>
DTSTAMP:20260422T235034
DTSTART:20250521T173000
DTEND:20250521T193000
SEQUENCE:0
TRANSP:OPAQUE
END:VEVENT
END:VCALENDAR