BEGIN:VCALENDAR
VERSION:2.0
PRODID:-//jEvents 2.0 for Joomla//EN
CALSCALE:GREGORIAN
METHOD:PUBLISH
BEGIN:VEVENT
UID:1805e1b84291cd467d69322f3146acaa
CATEGORIES:Hohenhameln
CREATED:20250120T165255
SUMMARY:Gruppenabend 1:Gruppe+Funkübung
DESCRIPTION:Gruppenabend 1 Gruppe + Fünkübung\n
X-ALT-DESC;FMTTYPE=text/html:<p>Gruppenabend 1 Gruppe + Fünkübung</p>
DTSTAMP:20260423T021844
DTSTART:20250604T163000
DTEND:20250604T190000
SEQUENCE:0
TRANSP:OPAQUE
END:VEVENT
END:VCALENDAR