BEGIN:VCALENDAR
VERSION:2.0
PRODID:-//jEvents 2.0 for Joomla//EN
CALSCALE:GREGORIAN
METHOD:PUBLISH
BEGIN:VEVENT
UID:99c9406b538d3df7a499c4c916c10131
CATEGORIES:Hohenhameln
CREATED:20250120T165710
SUMMARY:Gruppenabend 1:Gruppe
DESCRIPTION:Gruppenabend 1 Gruppe\nThore Lindemann\n \n
X-ALT-DESC;FMTTYPE=text/html:<p>Gruppenabend 1 Gruppe</p><p>Thore Lindemann</p><p>&nbsp;</p>
DTSTAMP:20260423T021541
DTSTART:20250618T173000
DTEND:20250618T193000
SEQUENCE:0
TRANSP:OPAQUE
END:VEVENT
END:VCALENDAR