BEGIN:VCALENDAR
VERSION:2.0
PRODID:-//jEvents 2.0 for Joomla//EN
CALSCALE:GREGORIAN
METHOD:PUBLISH
BEGIN:VEVENT
UID:e2610e537c678f82dcbf3a7110150366
CATEGORIES:Hohenhameln
CREATED:20250120T165919
SUMMARY:Allgemeiner Übungsdienst
DESCRIPTION:Allgemeiner Übungsdienst\n
X-ALT-DESC;FMTTYPE=text/html:<p>Allgemeiner Übungsdienst</p>
DTSTAMP:20260423T101349
DTSTART:20250624T173000
DTEND:20250624T190000
SEQUENCE:0
TRANSP:OPAQUE
END:VEVENT
END:VCALENDAR