BEGIN:VCALENDAR
VERSION:2.0
PRODID:-//jEvents 2.0 for Joomla//EN
CALSCALE:GREGORIAN
METHOD:PUBLISH
BEGIN:VEVENT
UID:b639a7d1320163530265b9ff05308ce5
CATEGORIES:Hohenhameln
CREATED:20250120T170047
SUMMARY:Gruppenabend 1:Gruppe
DESCRIPTION:Gruppenabend 1 Gruppe\nThore Lindemann\n
X-ALT-DESC;FMTTYPE=text/html:<p>Gruppenabend 1 Gruppe</p><p>Thore Lindemann</p>
DTSTAMP:20260423T062718
DTSTART:20250702T173000
DTEND:20250702T193000
SEQUENCE:0
TRANSP:OPAQUE
END:VEVENT
END:VCALENDAR