BEGIN:VCALENDAR
VERSION:2.0
PRODID:-//jEvents 2.0 for Joomla//EN
CALSCALE:GREGORIAN
METHOD:PUBLISH
BEGIN:VEVENT
UID:4f630a132139d092dc7d467da7cc39bc
CATEGORIES:Hohenhameln
CREATED:20250120T172022
SUMMARY:Gedenkfeier 50.Jahre Waldbrandkatastrophe Meinersen
DESCRIPTION:Gedenfeier in Meinersen\n50 Jahre Waldbrandkatastrophe \nGottesdienst\nKran
 zniederlegung am Gedenkstein\nAbschlussveranstaltung im Kulturzentrum\n \nn
 ähreres wird noch bekannt gegeben\n \n
X-ALT-DESC;FMTTYPE=text/html:<p>Gedenfeier in Meinersen</p><p>50 Jahre Waldbrandkatastrophe&nbsp;</p><p>
 Gottesdienst</p><p>Kranzniederlegung am Gedenkstein</p><p>Abschlussveransta
 ltung im Kulturzentrum</p><p>&nbsp;</p><p>nähreres wird noch bekannt gegebe
 n</p><p>&nbsp;</p>
DTSTAMP:20260424T085751
DTSTART:20250810T070000
DTEND:20250810T130000
SEQUENCE:0
TRANSP:OPAQUE
END:VEVENT
END:VCALENDAR