BEGIN:VCALENDAR
VERSION:2.0
PRODID:-//jEvents 2.0 for Joomla//EN
CALSCALE:GREGORIAN
METHOD:PUBLISH
BEGIN:VEVENT
UID:9ecf3cf1a4fda123c6f4520374683525
CATEGORIES:Hohenhameln
CREATED:20250120T172405
SUMMARY:Allgemeiner Übungsdienst
DESCRIPTION:<p>Allgemeiner Übungsdienst</p><p>Lars Kunz</p>
DTSTAMP:20260422T234808
DTSTART:20250826T173000
DTEND:20250826T193000
SEQUENCE:0
TRANSP:OPAQUE
END:VEVENT
END:VCALENDAR