BEGIN:VCALENDAR
VERSION:2.0
PRODID:-//jEvents 2.0 for Joomla//EN
CALSCALE:GREGORIAN
METHOD:PUBLISH
BEGIN:VEVENT
UID:c6362dd2ca2ae2c0ef8dc095649cc5f3
CATEGORIES:Hohenhameln
CREATED:20250120T172658
SUMMARY:Allgemeiner Übungsdienst
DESCRIPTION:Allgemeiner Übungdienst\nLars Kunz\n
X-ALT-DESC;FMTTYPE=text/html:<p>Allgemeiner Übungdienst</p><p>Lars Kunz</p>
DTSTAMP:20260423T170357
DTSTART:20250923T173000
DTEND:20250923T193000
SEQUENCE:0
TRANSP:OPAQUE
END:VEVENT
END:VCALENDAR