BEGIN:VCALENDAR
VERSION:2.0
PRODID:-//jEvents 2.0 for Joomla//EN
CALSCALE:GREGORIAN
METHOD:PUBLISH
BEGIN:VEVENT
UID:59d1155bcf4e5e3ae40f91b117b21a21
CATEGORIES:JFW Mehrum
CREATED:20241218T091458
SUMMARY:Dienst
LOCATION:Feuerwehr Mehrum
DESCRIPTION:
CONTACT:https://www.ff-hohenhameln.de/index.php/jugend-und-kinder/jfw-mehrum
DTSTAMP:20260423T114207
DTSTART:20250922T160000
DTEND:20250922T173000
SEQUENCE:0
TRANSP:OPAQUE
END:VEVENT
END:VCALENDAR