BEGIN:VCALENDAR
VERSION:2.0
PRODID:-//jEvents 2.0 for Joomla//EN
CALSCALE:GREGORIAN
METHOD:PUBLISH
BEGIN:VEVENT
UID:9e68d1b0e11f366979d18c423ed7c931
CATEGORIES:KFW Mehrum
CREATED:20241219T103922
SUMMARY:Dienst
LOCATION:Feuerwehr Mehrum
DESCRIPTION:
DTSTAMP:20260423T104638
DTSTART:20250606T143000
DTEND:20250606T160000
SEQUENCE:0
TRANSP:OPAQUE
END:VEVENT
END:VCALENDAR